BEGIN:VCALENDAR
VERSION:2.0
PRODID:-//Affinity Yoga - ECPv6.15.20//NONSGML v1.0//EN
CALSCALE:GREGORIAN
METHOD:PUBLISH
X-WR-CALNAME:Affinity Yoga
X-ORIGINAL-URL:https://affinityyoga.se
X-WR-CALDESC:Händelser för Affinity Yoga
REFRESH-INTERVAL;VALUE=DURATION:PT1H
X-Robots-Tag:noindex
X-PUBLISHED-TTL:PT1H
BEGIN:VTIMEZONE
TZID:Europe/Stockholm
BEGIN:DAYLIGHT
TZOFFSETFROM:+0100
TZOFFSETTO:+0200
TZNAME:CEST
DTSTART:20210328T010000
END:DAYLIGHT
BEGIN:STANDARD
TZOFFSETFROM:+0200
TZOFFSETTO:+0100
TZNAME:CET
DTSTART:20211031T010000
END:STANDARD
BEGIN:DAYLIGHT
TZOFFSETFROM:+0100
TZOFFSETTO:+0200
TZNAME:CEST
DTSTART:20220327T010000
END:DAYLIGHT
BEGIN:STANDARD
TZOFFSETFROM:+0200
TZOFFSETTO:+0100
TZNAME:CET
DTSTART:20221030T010000
END:STANDARD
BEGIN:DAYLIGHT
TZOFFSETFROM:+0100
TZOFFSETTO:+0200
TZNAME:CEST
DTSTART:20230326T010000
END:DAYLIGHT
BEGIN:STANDARD
TZOFFSETFROM:+0200
TZOFFSETTO:+0100
TZNAME:CET
DTSTART:20231029T010000
END:STANDARD
END:VTIMEZONE
BEGIN:VEVENT
DTSTART;TZID=Europe/Stockholm:20220820T121500
DTEND;TZID=Europe/Stockholm:20220820T130000
DTSTAMP:20260423T065850
CREATED:20220808T141921Z
LAST-MODIFIED:20220808T141959Z
UID:1057-1660997700-1661000400@affinityyoga.se
SUMMARY:Yoga med Wave Initiative - Aspen Fun Race
DESCRIPTION:Affinity Yoga kommer att hålla yoga vid Aspens strand i samarbete med Wave Initative’s heldagsevenemang med Aspen Fun Race. \nVare sig du ska vill få stretcha igenom kroppen\, vidga andetaget samt uppnå mental fokus inför loppet eller bara ha en skön stund där du landar i kroppen\, så är du välkommen att komma och yoga med mig.  Jag kommer enbart att ha ett fåtal mattor på plats\, så det kan vara bra att ta med sig en egen matta eller handduk att yoga på. \nEn massa kul aktiviteter kommer att finnas på plats på stranden mellan kl 11-16\, och starten för SUP-tävlingen Fun Race går kl 13.30. Anmälan till loppet kan hittas via föreningens Instagram. \n  \n 
URL:https://affinityyoga.se/event/yoga-med-wave-initiative-aspen-fun-race/
LOCATION:Aspens strand\, Lerum
CATEGORIES:Yoga på event
ATTACH;FMTTYPE=image/jpeg:https://affinityyoga.se/wp-content/uploads/2022/08/waves-scaled-e1659968319807.jpg
END:VEVENT
END:VCALENDAR