BEGIN:VCALENDAR
VERSION:2.0
PRODID:-//Affinity Yoga - ECPv6.15.20//NONSGML v1.0//EN
CALSCALE:GREGORIAN
METHOD:PUBLISH
X-ORIGINAL-URL:https://affinityyoga.se
X-WR-CALDESC:Händelser för Affinity Yoga
REFRESH-INTERVAL;VALUE=DURATION:PT1H
X-Robots-Tag:noindex
X-PUBLISHED-TTL:PT1H
BEGIN:VTIMEZONE
TZID:Europe/Stockholm
BEGIN:DAYLIGHT
TZOFFSETFROM:+0100
TZOFFSETTO:+0200
TZNAME:CEST
DTSTART:20210328T010000
END:DAYLIGHT
BEGIN:STANDARD
TZOFFSETFROM:+0200
TZOFFSETTO:+0100
TZNAME:CET
DTSTART:20211031T010000
END:STANDARD
BEGIN:DAYLIGHT
TZOFFSETFROM:+0100
TZOFFSETTO:+0200
TZNAME:CEST
DTSTART:20220327T010000
END:DAYLIGHT
BEGIN:STANDARD
TZOFFSETFROM:+0200
TZOFFSETTO:+0100
TZNAME:CET
DTSTART:20221030T010000
END:STANDARD
BEGIN:DAYLIGHT
TZOFFSETFROM:+0100
TZOFFSETTO:+0200
TZNAME:CEST
DTSTART:20230326T010000
END:DAYLIGHT
BEGIN:STANDARD
TZOFFSETFROM:+0200
TZOFFSETTO:+0100
TZNAME:CET
DTSTART:20231029T010000
END:STANDARD
END:VTIMEZONE
BEGIN:VEVENT
DTSTART;TZID=Europe/Stockholm:20220304T163000
DTEND;TZID=Europe/Stockholm:20220304T170000
DTSTAMP:20260423T132204
CREATED:20220302T084237Z
LAST-MODIFIED:20220808T124032Z
UID:1004-1646411400-1646413200@affinityyoga.se
SUMMARY:Guidning inför kallbad med Wave Initiative
DESCRIPTION:För medlemmar i Wave Initiative kommer Affinity Yoga att guida en mental avslappning inför föreningens kallbads-AW. Vi kommer att kombinera andingsövningar ihop med enklare yogapositioner för att landa i nuet och hitta stillheten och nå djupandning\, något som ger en förstärkt effekt ihop med det efterföljande kalla doppet. \nDu kan bli medlem i Wave Initiative via den här länken!
URL:https://affinityyoga.se/event/guidning-infor-kallbad-med-wave-initiative-v9/
LOCATION:Gorås badbrygga\, Lerum
CATEGORIES:Yoga på event
ATTACH;FMTTYPE=image/jpeg:https://affinityyoga.se/wp-content/uploads/2022/03/IMG_3700-scaled-e1646210508985.jpg
END:VEVENT
BEGIN:VEVENT
DTSTART;TZID=Europe/Stockholm:20220311T163000
DTEND;TZID=Europe/Stockholm:20220311T170000
DTSTAMP:20260423T132204
CREATED:20220302T084501Z
LAST-MODIFIED:20220808T124006Z
UID:1014-1647016200-1647018000@affinityyoga.se
SUMMARY:Guidning inför kallbad med Wave Initiative
DESCRIPTION:För medlemmar i Wave Initiative kommer Affinity Yoga att guida en mental avslappning inför föreningens kallbads-AW. Vi kommer att kombinera andingsövningar ihop med enklare yogapositioner för att landa i nuet och hitta stillheten och nå djupandning\, något som ger en förstärkt effekt ihop med det efterföljande kalla doppet. \nDu kan bli medlem i Wave Initiative via den här länken!
URL:https://affinityyoga.se/event/guidning-infor-kallbad-med-wave-initiative-v10/
LOCATION:Gorås badbrygga\, Lerum
CATEGORIES:Yoga på event
ATTACH;FMTTYPE=image/jpeg:https://affinityyoga.se/wp-content/uploads/2022/03/IMG_3700-scaled-e1646210508985.jpg
END:VEVENT
END:VCALENDAR